BEGIN:VCALENDAR
VERSION:2.0
PRODID:-//Bedford + Bowery - ECPv6.15.20//NONSGML v1.0//EN
CALSCALE:GREGORIAN
METHOD:PUBLISH
X-ORIGINAL-URL:https://bedfordandbowery.com
X-WR-CALDESC:Events for Bedford + Bowery
REFRESH-INTERVAL;VALUE=DURATION:PT1H
X-Robots-Tag:noindex
X-PUBLISHED-TTL:PT1H
BEGIN:VTIMEZONE
TZID:America/New_York
BEGIN:DAYLIGHT
TZOFFSETFROM:-0500
TZOFFSETTO:-0400
TZNAME:EDT
DTSTART:20120311T070000
END:DAYLIGHT
BEGIN:STANDARD
TZOFFSETFROM:-0400
TZOFFSETTO:-0500
TZNAME:EST
DTSTART:20121104T060000
END:STANDARD
BEGIN:DAYLIGHT
TZOFFSETFROM:-0500
TZOFFSETTO:-0400
TZNAME:EDT
DTSTART:20130310T070000
END:DAYLIGHT
BEGIN:STANDARD
TZOFFSETFROM:-0400
TZOFFSETTO:-0500
TZNAME:EST
DTSTART:20131103T060000
END:STANDARD
BEGIN:DAYLIGHT
TZOFFSETFROM:-0500
TZOFFSETTO:-0400
TZNAME:EDT
DTSTART:20140309T070000
END:DAYLIGHT
BEGIN:STANDARD
TZOFFSETFROM:-0400
TZOFFSETTO:-0500
TZNAME:EST
DTSTART:20141102T060000
END:STANDARD
BEGIN:DAYLIGHT
TZOFFSETFROM:-0500
TZOFFSETTO:-0400
TZNAME:EDT
DTSTART:20150308T070000
END:DAYLIGHT
BEGIN:STANDARD
TZOFFSETFROM:-0400
TZOFFSETTO:-0500
TZNAME:EST
DTSTART:20151101T060000
END:STANDARD
END:VTIMEZONE
BEGIN:VEVENT
DTSTART;TZID=America/New_York:20140627T100000
DTEND;TZID=America/New_York:20140627T233000
DTSTAMP:20260421T054120
CREATED:20140618T020007Z
LAST-MODIFIED:20140618T020007Z
UID:31609-1403863200-1403911800@bedfordandbowery.com
SUMMARY:"Football Head" at La MaMa
DESCRIPTION:Visual artist\, performer\, and gay stage icon Chris Tanner brings true-life tales\, and\, in his words\, “humiliating stories of the sexual awakening of a nerdy art queen\,” to the stage in Football Head. Tanner sings and tells the stories\, accompanied on the stage by three doo-wop singers and collaborator Lance Cruce. The show is first and foremost about his family\, intermingled with shame\, guilt\, and celebration thrown in for good measure.
URL:https://bedfordandbowery.com/event/football-head-at-la-mama/
LOCATION:La MaMa\, 68 East 4th St. \, East Village\, New York\, NY\, United States
CATEGORIES:Theater + Dance
END:VEVENT
BEGIN:VEVENT
DTSTART;TZID=America/New_York:20140626T210000
DTEND;TZID=America/New_York:20140626T230000
DTSTAMP:20260421T054120
CREATED:20140616T023735Z
LAST-MODIFIED:20140616T023735Z
UID:31020-1403816400-1403823600@bedfordandbowery.com
SUMMARY:Limitless: A Marina Abramovic Tribute
DESCRIPTION:Last time Bushwick Burlesque put on this tribute to performance artist Marina Abramovic\, Zoe Ziegfel did a piece titled The Stripper is Present. Read more about it here.
URL:https://bedfordandbowery.com/event/limitless-a-marina-abramovic-tribute/
LOCATION:Sideshows by the Seashore\, 1208 Surf Ave\, Brooklyn\, NY\, United States
CATEGORIES:Theater + Dance
END:VEVENT
BEGIN:VEVENT
DTSTART;TZID=America/New_York:20140626T190000
DTEND;TZID=America/New_York:20140626T210000
DTSTAMP:20260421T054120
CREATED:20140617T132916Z
LAST-MODIFIED:20140617T132916Z
UID:30013-1403809200-1403816400@bedfordandbowery.com
SUMMARY:"Mining the Moon"
DESCRIPTION:From the writer: “It’s fantasy-based story about the president\, who is a werewolf\, and who has halted the spinning of the moon\, so the moon’s always full and he can stay in power. He’s deposed\, and with the help of his friend\, who’s a talking horse\, he tries to find his way back to the moon and to the source of his werewolf people. It’s very much a satire and a fantasy in a humorous way\, about power and corruption and environmental themes. It’s a weird blend of puppet theater and kabuki theater.”\nRead more:\n3 Comic-Book-Inspired Dramatists Name Their Favorite Comics and Plays
URL:https://bedfordandbowery.com/event/mining-the-moon/
LOCATION:Brick Theater\, 579 Metropolitan Ave\, Williamsburg\, Brooklyn\, NY\, 11211\, United States
CATEGORIES:Theater + Dance
END:VEVENT
BEGIN:VEVENT
DTSTART;TZID=America/New_York:20140625T201500
DTEND;TZID=America/New_York:20140625T235500
DTSTAMP:20260421T054120
CREATED:20140618T021909Z
LAST-MODIFIED:20140618T021909Z
UID:31617-1403727300-1403740500@bedfordandbowery.com
SUMMARY:Play/Date
DESCRIPTION:Interactive and immersive\, Play/Date isn’t really a show as much as an experience: it takes place at a lounge (Fat Baby in the Lower East Side)\, where the audience can either sit or meander while they watch performers move around the bar and perform a series of short plays. Sure\, the plays’ subject—New York dating—has been beaten to death. But Play/Date is less about the stories and more about the interaction between the audience and the actors. Did we mention you’re encouraged to drink while you watch? Sold.
URL:https://bedfordandbowery.com/event/playdate-3-2014-06-25/
LOCATION:Fat Baby\, 112 Rivington St\, New York
CATEGORIES:Theater + Dance
END:VEVENT
BEGIN:VEVENT
DTSTART;TZID=America/New_York:20140625T190000
DTEND;TZID=America/New_York:20140625T210000
DTSTAMP:20260421T054120
CREATED:20140617T132617Z
LAST-MODIFIED:20140617T132617Z
UID:30016-1403722800-1403730000@bedfordandbowery.com
SUMMARY:"King Kirby" at Comic Book Theater Fest
DESCRIPTION:From the director: “’King Kirby’ is a play about the life of Jack Kirby\, often called the ‘king of the comics\,’ who had a career and a life that spans almost the entire 21st century. Every important moment in comic history is pretty much relatable back to him. He drew his way out of the Jewish ghetto of the Lower East Side\, he fought in France during WWII\, and he created or co-created characters like Captain America\, the X-Men\, Thor\, Avengers\, and for that matter\, he helped create romance comics. It’s a drama that takes place from when he was about 12 to 80. He died in 1992. And the point of the play is that a lot of people think that entertainment and pop culture just kind of gets cranked out by this faceless corporate machine\, when in fact\, it’s real human beings with real flesh-and-blood stories who make this stuff happen\, and this is one of the most important people doing it\, and yet very few people know his name.”\nRead more:\n3 Comic-Book-Inspired Dramatists Name Their Favorite Comics and Plays
URL:https://bedfordandbowery.com/event/king-kirby-2/
LOCATION:Brick Theater\, 579 Metropolitan Ave\, Williamsburg\, Brooklyn\, NY\, 11211\, United States
CATEGORIES:Theater + Dance
END:VEVENT
BEGIN:VEVENT
DTSTART;TZID=America/New_York:20140624T201500
DTEND;TZID=America/New_York:20140624T235500
DTSTAMP:20260421T054120
CREATED:20140618T021909Z
LAST-MODIFIED:20140618T021909Z
UID:31616-1403640900-1403654100@bedfordandbowery.com
SUMMARY:Play/Date
DESCRIPTION:Interactive and immersive\, Play/Date isn’t really a show as much as an experience: it takes place at a lounge (Fat Baby in the Lower East Side)\, where the audience can either sit or meander while they watch performers move around the bar and perform a series of short plays. Sure\, the plays’ subject—New York dating—has been beaten to death. But Play/Date is less about the stories and more about the interaction between the audience and the actors. Did we mention you’re encouraged to drink while you watch? Sold.
URL:https://bedfordandbowery.com/event/playdate-3-2014-06-24/
LOCATION:Fat Baby\, 112 Rivington St\, New York
CATEGORIES:Theater + Dance
END:VEVENT
BEGIN:VEVENT
DTSTART;TZID=America/New_York:20140623T201500
DTEND;TZID=America/New_York:20140623T235500
DTSTAMP:20260421T054120
CREATED:20140618T021909Z
LAST-MODIFIED:20140618T021909Z
UID:31615-1403554500-1403567700@bedfordandbowery.com
SUMMARY:Play/Date
DESCRIPTION:Interactive and immersive\, Play/Date isn’t really a show as much as an experience: it takes place at a lounge (Fat Baby in the Lower East Side)\, where the audience can either sit or meander while they watch performers move around the bar and perform a series of short plays. Sure\, the plays’ subject—New York dating—has been beaten to death. But Play/Date is less about the stories and more about the interaction between the audience and the actors. Did we mention you’re encouraged to drink while you watch? Sold.
URL:https://bedfordandbowery.com/event/playdate-3-2014-06-23/
LOCATION:Fat Baby\, 112 Rivington St\, New York
CATEGORIES:Theater + Dance
END:VEVENT
BEGIN:VEVENT
DTSTART;TZID=America/New_York:20140622T201500
DTEND;TZID=America/New_York:20140622T235500
DTSTAMP:20260421T054120
CREATED:20140618T021908Z
LAST-MODIFIED:20140618T021908Z
UID:31613-1403468100-1403481300@bedfordandbowery.com
SUMMARY:Play/Date
DESCRIPTION:Interactive and immersive\, Play/Date isn’t really a show as much as an experience: it takes place at a lounge (Fat Baby in the Lower East Side)\, where the audience can either sit or meander while they watch performers move around the bar and perform a series of short plays. Sure\, the plays’ subject—New York dating—has been beaten to death. But Play/Date is less about the stories and more about the interaction between the audience and the actors. Did we mention you’re encouraged to drink while you watch? Sold.
URL:https://bedfordandbowery.com/event/playdate-3/
LOCATION:Fat Baby\, 112 Rivington St\, New York
CATEGORIES:Theater + Dance
END:VEVENT
BEGIN:VEVENT
DTSTART;TZID=America/New_York:20140622T200000
DTEND;TZID=America/New_York:20140622T213000
DTSTAMP:20260421T054120
CREATED:20140618T022520Z
LAST-MODIFIED:20140618T022520Z
UID:31639-1403467200-1403472600@bedfordandbowery.com
SUMMARY:I'm Pretty Fucked Up
DESCRIPTION:Written by Brooklyn playwright and New Mexico native Ariel Stess\, I’m Pretty Fucked Up is a play about three high school friends who skip class to take a road trip into the New Mexico mountains. The action cuts between the friends and their freedom on the road\, and the school\, where teachers and students are dealing with an emergency lock-down.
URL:https://bedfordandbowery.com/event/im-pretty-fucked-up-2014-06-22/
LOCATION:Clubbed Thumb\, 195 Chrystie Street\, New York
CATEGORIES:Theater + Dance
END:VEVENT
BEGIN:VEVENT
DTSTART;TZID=America/New_York:20140622T193000
DTEND;TZID=America/New_York:20140622T230000
DTSTAMP:20260421T054120
CREATED:20140618T020256Z
LAST-MODIFIED:20140618T020256Z
UID:31632-1403465400-1403478000@bedfordandbowery.com
SUMMARY:One-Acts for a Cause Gala
DESCRIPTION:For the second year\, Planet Connections\, an eco-friendly arts organization\, presents its One-Acts for a Cause Gala. Four renowned playwrights—Israel Horovitz\, Erik Ehn\, Winter Miller\, Wendy MacLeod—have written one-act plays that bring attention to hunger and homelessness in New York City. All proceeds from the show benefit City Harvest\, a New York-based food rescue organization. Show-goers are encouraged to bring canned food to donate to City Harvest.
URL:https://bedfordandbowery.com/event/one-acts-for-a-cause-gala/
LOCATION:Classic Stage Company\, 136 E. 13th St.\, East Village\, New York\, NY\, United States
CATEGORIES:Theater + Dance
END:VEVENT
BEGIN:VEVENT
DTSTART;TZID=America/New_York:20140622T173000
DTEND;TZID=America/New_York:20140622T190000
DTSTAMP:20260421T054120
CREATED:20140618T015808Z
LAST-MODIFIED:20140618T015808Z
UID:31611-1403458200-1403463600@bedfordandbowery.com
SUMMARY:"Football Head" at La MaMa
DESCRIPTION:Visual artist\, performer\, and gay stage icon Chris Tanner brings true-life tales\, and\, in his words\, “humiliating stories of the sexual awakening of a nerdy art queen\,” to the stage in Football Head. Tanner sings and tells the stories\, accompanied on the stage by three doo-wop singers and collaborator Lance Cruce. The show is first and foremost about his family\, intermingled with shame\, guilt\, and celebration thrown in for good measure.
URL:https://bedfordandbowery.com/event/football-head/
LOCATION:La MaMa\, 68 East 4th St. \, East Village\, New York\, NY\, United States
CATEGORIES:Theater + Dance
END:VEVENT
BEGIN:VEVENT
DTSTART;TZID=America/New_York:20140621T220000
DTEND;TZID=America/New_York:20140621T233000
DTSTAMP:20260421T054120
CREATED:20140618T020335Z
LAST-MODIFIED:20140618T020335Z
UID:31607-1403388000-1403393400@bedfordandbowery.com
SUMMARY:"Football Head" at La MaMa
DESCRIPTION:Visual artist\, performer\, and gay stage icon Chris Tanner brings true-life tales\, and\, in his words\, “humiliating stories of the sexual awakening of a nerdy art queen\,” to the stage in Football Head. Tanner sings and tells the stories\, accompanied on the stage by three doo-wop singers and collaborator Lance Cruce. The show is first and foremost about his family\, intermingled with shame\, guilt\, and celebration thrown in for good measure.
URL:https://bedfordandbowery.com/event/football-head-at-la-mama-2-2014-06-21/
LOCATION:La MaMa\, 68 East 4th St. \, East Village\, New York\, NY\, United States
CATEGORIES:Theater + Dance
END:VEVENT
BEGIN:VEVENT
DTSTART;TZID=America/New_York:20140621T220000
DTEND;TZID=America/New_York:20140621T220000
DTSTAMP:20260421T054120
CREATED:20140616T043410Z
LAST-MODIFIED:20140616T043410Z
UID:31085-1403388000-1403388000@bedfordandbowery.com
SUMMARY:Mr. Choade's Upstairs Downstairs
DESCRIPTION:This long-running variety show merges sideshow/vaudeville acts\, go-go girls\, comedy\, and burlesque\, often to raunchy effect (performers include Donny Vomit of Coney Island Sideshow fame and Evil Hate Monkey of Bushwick Burlesque fame). Doors open at 8 p.m.
URL:https://bedfordandbowery.com/event/mr-choades-upstairs-downstairs/
LOCATION:Slipper Room\, 167 Orchard St\, Lower East Side\, NY\, United States
CATEGORIES:Theater + Dance
END:VEVENT
BEGIN:VEVENT
DTSTART;TZID=America/New_York:20140621T200000
DTEND;TZID=America/New_York:20140621T220000
DTSTAMP:20260421T054120
CREATED:20140617T133005Z
LAST-MODIFIED:20140617T133005Z
UID:30009-1403380800-1403388000@bedfordandbowery.com
SUMMARY:"Mining the Moon" at Comic Book Theater Fest
DESCRIPTION:From the writer: “It’s fantasy-based story about the president\, who is a werewolf\, and who has halted the spinning of the moon\, so the moon’s always full and he can stay in power. He’s deposed\, and with the help of his friend\, who’s a talking horse\, he tries to find his way back to the moon and to the source of his werewolf people. It’s very much a satire and a fantasy in a humorous way\, about power and corruption and environmental themes. It’s a weird blend of puppet theater and kabuki theater.”\nRead more:\n3 Comic-Book-Inspired Dramatists Name Their Favorite Comics and Plays
URL:https://bedfordandbowery.com/event/mining-the-moon-2/
LOCATION:Brick Theater\, 579 Metropolitan Ave\, Williamsburg\, Brooklyn\, NY\, 11211\, United States
CATEGORIES:Theater + Dance
END:VEVENT
BEGIN:VEVENT
DTSTART;TZID=America/New_York:20140621T200000
DTEND;TZID=America/New_York:20140621T213000
DTSTAMP:20260421T054120
CREATED:20140618T022519Z
LAST-MODIFIED:20140618T022519Z
UID:31638-1403380800-1403386200@bedfordandbowery.com
SUMMARY:I'm Pretty Fucked Up
DESCRIPTION:Written by Brooklyn playwright and New Mexico native Ariel Stess\, I’m Pretty Fucked Up is a play about three high school friends who skip class to take a road trip into the New Mexico mountains. The action cuts between the friends and their freedom on the road\, and the school\, where teachers and students are dealing with an emergency lock-down.
URL:https://bedfordandbowery.com/event/im-pretty-fucked-up-2014-06-21/
LOCATION:Clubbed Thumb\, 195 Chrystie Street\, New York
CATEGORIES:Theater + Dance
END:VEVENT
BEGIN:VEVENT
DTSTART;TZID=America/New_York:20140621T193000
DTEND;TZID=America/New_York:20140621T230000
DTSTAMP:20260421T054120
CREATED:20140618T021722Z
LAST-MODIFIED:20140618T021722Z
UID:31623-1403379000-1403391600@bedfordandbowery.com
SUMMARY:"Clown Bar" at The Box
DESCRIPTION:Back for a limited-engagement encore\, Clown Bar is a dark-comedy-slash-whodunit about a clown searching for the answers to his brother’s murder. The show is critically acclaimed\, and every bit as weird as it sounds. The audience is encouraged to wear full clown regalia to the performance; they’ll get free shots of “extra funny” if they do. We haven’t seen the show\, but there’s a “Fight Director” in the crew credits\, and that’s all we need to know.
URL:https://bedfordandbowery.com/event/clown-bar/
LOCATION:The Box\, 189 Chrystie St\, New York
CATEGORIES:Theater + Dance
END:VEVENT
BEGIN:VEVENT
DTSTART;TZID=America/New_York:20140621T170000
DTEND;TZID=America/New_York:20140621T183000
DTSTAMP:20260421T054120
CREATED:20130613T163811Z
LAST-MODIFIED:20130613T163811Z
UID:30610-1403370000-1403375400@bedfordandbowery.com
SUMMARY:The Quantum Eye at Theatre 80
DESCRIPTION:Mentalist Sam Eaton performs in this weekly magic and mentalism show that explores the limits of perception and deception.\n 
URL:https://bedfordandbowery.com/event/the-quantum-eye-at-theatre-80-2014-06-21/
LOCATION:Theatre 80\, 80 St Marks Pl \, East Village\, NY\, United States
CATEGORIES:Comedy,Theater + Dance
END:VEVENT
BEGIN:VEVENT
DTSTART;TZID=America/New_York:20140621T150000
DTEND;TZID=America/New_York:20140621T170000
DTSTAMP:20260421T054120
CREATED:20140617T132725Z
LAST-MODIFIED:20140617T132725Z
UID:30015-1403362800-1403370000@bedfordandbowery.com
SUMMARY:"King Kirby" at Comic Book Theater Fest
DESCRIPTION:The Play: “’King Kirby’ is a play about the life of Jack Kirby\, often called the ‘king of the comics\,’ who had a career and a life that spans almost the entire 21st century. Every important moment in comic history is pretty much relatable back to him. He drew his way out of the Jewish ghetto of the Lower East Side\, he fought in France during WWII\, and he created or co-created characters like Captain America\, the X-Men\, Thor\, Avengers\, and for that matter\, he helped create romance comics. It’s a drama that takes place from when he was about 12 to 80. He died in 1992. And the point of the play is that a lot of people think that entertainment and pop culture just kind of gets cranked out by this faceless corporate machine\, when in fact\, it’s real human beings with real flesh-and-blood stories who make this stuff happen\, and this is one of the most important people doing it\, and yet very few people know his name.”\nRead more:\n3 Comic-Book-Inspired Dramatists Name Their Favorite Comics and Plays
URL:https://bedfordandbowery.com/event/king-kirby-at-comic-book-theater-fest-2/
LOCATION:Brick Theater\, 579 Metropolitan Ave\, Williamsburg\, Brooklyn\, NY\, 11211\, United States
CATEGORIES:Theater + Dance
END:VEVENT
BEGIN:VEVENT
DTSTART;TZID=America/New_York:20140620T220000
DTEND;TZID=America/New_York:20140620T233000
DTSTAMP:20260421T054120
CREATED:20140618T020335Z
LAST-MODIFIED:20140618T020335Z
UID:31606-1403301600-1403307000@bedfordandbowery.com
SUMMARY:"Football Head" at La MaMa
DESCRIPTION:Visual artist\, performer\, and gay stage icon Chris Tanner brings true-life tales\, and\, in his words\, “humiliating stories of the sexual awakening of a nerdy art queen\,” to the stage in Football Head. Tanner sings and tells the stories\, accompanied on the stage by three doo-wop singers and collaborator Lance Cruce. The show is first and foremost about his family\, intermingled with shame\, guilt\, and celebration thrown in for good measure.
URL:https://bedfordandbowery.com/event/football-head-at-la-mama-2/
LOCATION:La MaMa\, 68 East 4th St. \, East Village\, New York\, NY\, United States
CATEGORIES:Theater + Dance
END:VEVENT
BEGIN:VEVENT
DTSTART;TZID=America/New_York:20140620T200000
DTEND;TZID=America/New_York:20140620T213000
DTSTAMP:20260421T054120
CREATED:20140618T022519Z
LAST-MODIFIED:20140618T022519Z
UID:31637-1403294400-1403299800@bedfordandbowery.com
SUMMARY:I'm Pretty Fucked Up
DESCRIPTION:Written by Brooklyn playwright and New Mexico native Ariel Stess\, I’m Pretty Fucked Up is a play about three high school friends who skip class to take a road trip into the New Mexico mountains. The action cuts between the friends and their freedom on the road\, and the school\, where teachers and students are dealing with an emergency lock-down.
URL:https://bedfordandbowery.com/event/im-pretty-fucked-up-2014-06-20/
LOCATION:Clubbed Thumb\, 195 Chrystie Street\, New York
CATEGORIES:Theater + Dance
END:VEVENT
BEGIN:VEVENT
DTSTART;TZID=America/New_York:20140620T193000
DTEND;TZID=America/New_York:20140620T213000
DTSTAMP:20260421T054120
CREATED:20140617T142858Z
LAST-MODIFIED:20140617T142858Z
UID:29920-1403292600-1403299800@bedfordandbowery.com
SUMMARY:"Bike Shop" Opening Night
DESCRIPTION:The musical is “Bike Shop\,” and it’s about—you guessed it—a bike shop. Liz Barkan plays Bobby\, a bike messenger grappling with the heavy weight of having accidentally murdered a young girl while delivering a package. After the accident\, Bobby holes up in her family-run bike shop\, opened by her Irish immigrant grandmother back in 1936. Characters—all played by Barkan—file in and out of the store: Bobby’s father\, a Vietnam vet; her uncle\, a self-proclaimed Rabbi; and a mysterious man\, a fellow messenger who helps Bobby get back on her bike. The show begins its two-week residency at Theater for the New City on June 20. Show-goers are encouraged to ride their bikes to the show\, then park them on stage to be part of the set.\nRead more:\nWatch Your Fixie Become a Star of the Stage in ‘Bike Shop: The Musical’
URL:https://bedfordandbowery.com/event/bike-shop-opening-night/
LOCATION:Theater for the New City
CATEGORIES:Theater + Dance
END:VEVENT
BEGIN:VEVENT
DTSTART;TZID=America/New_York:20140620T190000
DTEND;TZID=America/New_York:20140620T210000
DTSTAMP:20260421T054120
CREATED:20140617T132810Z
LAST-MODIFIED:20140617T132810Z
UID:30014-1403290800-1403298000@bedfordandbowery.com
SUMMARY:"King Kirby" at Comic Book Theater Fest
DESCRIPTION:From the director: “’King Kirby’ is a play about the life of Jack Kirby\, often called the ‘king of the comics\,’ who had a career and a life that spans almost the entire 21st century. Every important moment in comic history is pretty much relatable back to him. He drew his way out of the Jewish ghetto of the Lower East Side\, he fought in France during WWII\, and he created or co-created characters like Captain America\, the X-Men\, Thor\, Avengers\, and for that matter\, he helped create romance comics. It’s a drama that takes place from when he was about 12 to 80. He died in 1992. And the point of the play is that a lot of people think that entertainment and pop culture just kind of gets cranked out by this faceless corporate machine\, when in fact\, it’s real human beings with real flesh-and-blood stories who make this stuff happen\, and this is one of the most important people doing it\, and yet very few people know his name.”\nRead more:\n3 Comic-Book-Inspired Dramatists Name Their Favorite Comics and Plays
URL:https://bedfordandbowery.com/event/king-kirby-at-comic-book-theater-fest-3/
LOCATION:Brick Theater\, 579 Metropolitan Ave\, Williamsburg\, Brooklyn\, NY\, 11211\, United States
CATEGORIES:Theater + Dance
END:VEVENT
BEGIN:VEVENT
DTSTART;TZID=America/New_York:20140619T200000
DTEND;TZID=America/New_York:20140619T213000
DTSTAMP:20260421T054120
CREATED:20140618T022519Z
LAST-MODIFIED:20140618T022519Z
UID:31636-1403208000-1403213400@bedfordandbowery.com
SUMMARY:I'm Pretty Fucked Up
DESCRIPTION:Written by Brooklyn playwright and New Mexico native Ariel Stess\, I’m Pretty Fucked Up is a play about three high school friends who skip class to take a road trip into the New Mexico mountains. The action cuts between the friends and their freedom on the road\, and the school\, where teachers and students are dealing with an emergency lock-down.
URL:https://bedfordandbowery.com/event/im-pretty-fucked-up-2014-06-19/
LOCATION:Clubbed Thumb\, 195 Chrystie Street\, New York
CATEGORIES:Theater + Dance
END:VEVENT
BEGIN:VEVENT
DTSTART;TZID=America/New_York:20140618T213000
DTEND;TZID=America/New_York:20140618T213000
DTSTAMP:20260421T054120
CREATED:20130612T153909Z
LAST-MODIFIED:20130612T153909Z
UID:818-1403127000-1403127000@bedfordandbowery.com
SUMMARY:Shaken & Stirred Burlesque
DESCRIPTION:Every Wednesday night\, a rotating cast of NY’s hottest burlesque stars take to the stage at The Delancey for a night of dancing and debauchery.
URL:https://bedfordandbowery.com/event/shaken-stirred-burlesque-at-the-delancey/
LOCATION:The Delancey\, 168 Delancey St\, New York\, United States
CATEGORIES:Nightlife + Bar Games,Theater + Dance
END:VEVENT
BEGIN:VEVENT
DTSTART;TZID=America/New_York:20140618T200000
DTEND;TZID=America/New_York:20140618T213000
DTSTAMP:20260421T054120
CREATED:20140618T022518Z
LAST-MODIFIED:20140618T022518Z
UID:31634-1403121600-1403127000@bedfordandbowery.com
SUMMARY:I'm Pretty Fucked Up
DESCRIPTION:Written by Brooklyn playwright and New Mexico native Ariel Stess\, I’m Pretty Fucked Up is a play about three high school friends who skip class to take a road trip into the New Mexico mountains. The action cuts between the friends and their freedom on the road\, and the school\, where teachers and students are dealing with an emergency lock-down.
URL:https://bedfordandbowery.com/event/im-pretty-fucked-up/
LOCATION:Clubbed Thumb\, 195 Chrystie Street\, New York
CATEGORIES:Theater + Dance
END:VEVENT
BEGIN:VEVENT
DTSTART;TZID=America/New_York:20140617T210000
DTEND;TZID=America/New_York:20140617T230000
DTSTAMP:20260421T054120
CREATED:20140615T155219Z
LAST-MODIFIED:20140615T155219Z
UID:30280-1403038800-1403046000@bedfordandbowery.com
SUMMARY:Bushwick Burlesque
DESCRIPTION:Darlinda Just Darlinda and Scary Ben’s burlesque troupe has paid tribute to everyone from Marina Abramovic to Sealo the Sealboy. We’d be understating it if we said never a dull moment.
URL:https://bedfordandbowery.com/event/bushwick-burlesque/
LOCATION:Bizarre\, 12 Jefferson street\, Bushwick\, NY\, United States
CATEGORIES:Theater + Dance
END:VEVENT
BEGIN:VEVENT
DTSTART;TZID=America/New_York:20140616T200000
DTEND;TZID=America/New_York:20140616T235000
DTSTAMP:20260421T054120
CREATED:20140616T043659Z
LAST-MODIFIED:20140616T043659Z
UID:31137-1402948800-1402962600@bedfordandbowery.com
SUMMARY:Hotsy Totsy's 'Escape From the Planet of the Cherries'
DESCRIPTION:The burlesque troupe that memorably riffed on The Big Lewbowski now turns its attention to “Escape From the Planet of the Apes.”
URL:https://bedfordandbowery.com/event/hotsty-totsys-escape-from-the-planet-of-the-cherries/
LOCATION:Slipper Room\, 167 Orchard St\, Lower East Side\, NY\, United States
CATEGORIES:Theater + Dance
END:VEVENT
BEGIN:VEVENT
DTSTART;TZID=America/New_York:20140614T170000
DTEND;TZID=America/New_York:20140614T183000
DTSTAMP:20260421T054120
CREATED:20130613T163811Z
LAST-MODIFIED:20130613T163811Z
UID:1292-1402765200-1402770600@bedfordandbowery.com
SUMMARY:The Quantum Eye at Theatre 80
DESCRIPTION:Mentalist Sam Eaton performs in this weekly magic and mentalism show that explores the limits of perception and deception.\n 
URL:https://bedfordandbowery.com/event/the-quantum-eye-at-theatre-80/
LOCATION:Theatre 80\, 80 St Marks Pl \, East Village\, NY\, United States
CATEGORIES:Comedy,Theater + Dance
END:VEVENT
BEGIN:VEVENT
DTSTART;TZID=America/New_York:20130928T130000
DTEND;TZID=America/New_York:20130928T170000
DTSTAMP:20260421T054120
CREATED:20130723T195249Z
LAST-MODIFIED:20130723T195249Z
UID:5971-1380373200-1380387600@bedfordandbowery.com
SUMMARY:FAB! Festival
DESCRIPTION:2012’s FAB! Festival. (Photo: Whitney Browne)\nThe tenth annual “one-day-only arts explosion” takes over a block of East 4th Street. Three stages (two outdoors and one inside the Fourth Arts Block space) will feature performances by local opera singers the Bowery Birds\, a reading from The Bohemian Love Diaries by Slash Coleman\, and a performance of Ink Spilled in Cursive\, a fusion of painting and dancing inspired by the work of Spanish poet (and Bushwick mural inspiration) Federico Garcia Lorca.
URL:https://bedfordandbowery.com/event/fab-festival/
LOCATION:Fourth Arts Block\, 61 East 4th Street\, East Village\, New York\, NY\, United States
CATEGORIES:Art,Theater + Dance
END:VEVENT
BEGIN:VEVENT
DTSTART;TZID=America/New_York:20130915T140000
DTEND;TZID=America/New_York:20130915T140000
DTSTAMP:20260421T054120
CREATED:20130723T201656Z
LAST-MODIFIED:20130723T201656Z
UID:6004-1379253600-1379253600@bedfordandbowery.com
SUMMARY:Summer Street Theater Tour - Sanitation
DESCRIPTION:As part of Theater for the New City’s Summer Street Theater Tour\, which has been bringing free outdoor theater to low-income communities since the 1970s\, any passersby can walk into St. Mark’s Church to see “Sanitation\,” the eco-friendly musical about three Lower East Side sanitation workers who scrounge together their savings to take a cruise to the Caribbean\, only to get sidetracked by Hurricane Sandy.
URL:https://bedfordandbowery.com/event/summer-street-theater-tour-sanitation-2/
LOCATION:St. Mark’s Church in the Bowery\, 131 E 10th St\, East VIllage\, NY\, United States
CATEGORIES:Theater + Dance
END:VEVENT
END:VCALENDAR