BEGIN:VCALENDAR
VERSION:2.0
PRODID:-//Bedford + Bowery - ECPv6.15.20//NONSGML v1.0//EN
CALSCALE:GREGORIAN
METHOD:PUBLISH
X-WR-CALNAME:Bedford + Bowery
X-ORIGINAL-URL:https://bedfordandbowery.com
X-WR-CALDESC:Events for Bedford + Bowery
REFRESH-INTERVAL;VALUE=DURATION:PT1H
X-Robots-Tag:noindex
X-PUBLISHED-TTL:PT1H
BEGIN:VTIMEZONE
TZID:America/New_York
BEGIN:DAYLIGHT
TZOFFSETFROM:-0500
TZOFFSETTO:-0400
TZNAME:EDT
DTSTART:20130310T070000
END:DAYLIGHT
BEGIN:STANDARD
TZOFFSETFROM:-0400
TZOFFSETTO:-0500
TZNAME:EST
DTSTART:20131103T060000
END:STANDARD
BEGIN:DAYLIGHT
TZOFFSETFROM:-0500
TZOFFSETTO:-0400
TZNAME:EDT
DTSTART:20140309T070000
END:DAYLIGHT
BEGIN:STANDARD
TZOFFSETFROM:-0400
TZOFFSETTO:-0500
TZNAME:EST
DTSTART:20141102T060000
END:STANDARD
BEGIN:DAYLIGHT
TZOFFSETFROM:-0500
TZOFFSETTO:-0400
TZNAME:EDT
DTSTART:20150308T070000
END:DAYLIGHT
BEGIN:STANDARD
TZOFFSETFROM:-0400
TZOFFSETTO:-0500
TZNAME:EST
DTSTART:20151101T060000
END:STANDARD
END:VTIMEZONE
BEGIN:VEVENT
DTSTART;TZID=America/New_York:20140911T110000
DTEND;TZID=America/New_York:20140911T200000
DTSTAMP:20260423T192552
CREATED:20140717T183256Z
LAST-MODIFIED:20140717T183256Z
UID:34240-1410433200-1410465600@bedfordandbowery.com
SUMMARY:Here and Elsewhere at the New Museum
DESCRIPTION:This exhibition is New York’s first gallery-wide exhibition of artists from the Arab world\, and is appropriately (and devastatingly) dedicated to exploring the ethics of representation and the status of images as instruments of political consciousness. Bringing together 45 artists and collectives from over 15 countries\, from North Africa to the Gulf\, Here and Elsewhere presents a sweeping\, riotous portrait of a heterogeneous region heretofore underrepresented in the NYC art world.
URL:https://bedfordandbowery.com/event/here-and-elsewhere-at-the-new-museum-2014-09-11/
LOCATION:New Museum\, 235 Bowery\, Lower East Side\, New York\, NY\, United States
CATEGORIES:Art
END:VEVENT
BEGIN:VEVENT
DTSTART;TZID=America/New_York:20140911T190000
DTEND;TZID=America/New_York:20140911T200000
DTSTAMP:20260423T192552
CREATED:20140904T210403Z
LAST-MODIFIED:20140904T210403Z
UID:37955-1410462000-1410465600@bedfordandbowery.com
SUMMARY:Christian Rudder presents Dataclysm
DESCRIPTION:Christian Rudder is co-founder and President of OkCupid—yes\, the same OkCupid that has rescued your “love” life from the doldrums and is now the only reason you ever leave the house even though sometimes it makes you feel as if the search is futile—and he’s now also the author ofDataclysm. The book is subtitledWho We Are (When We Think No One’s Looking)\, and whether that sounds ominous to you or not probably depends on your stance on the highly controversial personal data mining carried out by the likes of Facebook\, Twitter\, and (yes!) OkCupid. Blithely sidestepping the political ramifications of such practices\, Rudder instead dives enthusiastically into the social science potential of big data. Dataclysm examines what our online lives reveal about who we really are\, focusing intently on the magical potential of the algorithm.
URL:https://bedfordandbowery.com/event/christian-rudder-presents-dataclysm/
LOCATION:WORD Bookstore\, 126 Franklin St\, Greenpoint\, New York\, United States
CATEGORIES:Talks + Readings
END:VEVENT
BEGIN:VEVENT
DTSTART;TZID=America/New_York:20140911T210000
DTEND;TZID=America/New_York:20140911T210000
DTSTAMP:20260423T192552
CREATED:20140615T161751Z
LAST-MODIFIED:20140615T161751Z
UID:30304-1410469200-1410469200@bedfordandbowery.com
SUMMARY:Bob Mould at Bowery Ballroom
DESCRIPTION:Here’s something you may not know about the frontman of Huskur Du and Sugar: the consummate songman wrote the theme song to The Daily Show. His new album\, Beauty & Ruin was recorded by Steve Albini and deals with the passing of his father in 2012.
URL:https://bedfordandbowery.com/event/bob-mould-at-bowery-ballroom-2014-09-11/
LOCATION:Bowery Ballroom\, 6 Delancey St.\, New York
CATEGORIES:Music
END:VEVENT
END:VCALENDAR